BEGIN:VCALENDAR
VERSION:2.0
PRODID:SchoolNow
CALSCALE:GREGORIAN
BEGIN:VEVENT
UID:3d4b9448-0557-11ec-8d37-0ee39c5ff37b
DTSTAMP:20220523T153856Z
SUMMARY:CDD Board Meeting - Jun. 2022
LOCATION:Vista Lakes Clubhouse\, 8841 Lee Vista Boulevard\, Orlando\, Flori
 da 32829
URL;VALUE=URI:https://www.vistalakescdd.org/calendar/2687498/cdd-board-meet
 ing-jun-2022
DTSTART:20220602T140000Z
DTEND:20220602T150000Z
ATTACH;FILENAME=2022-06-02 Vista Lakes CDD Agenda.pdf;FMTTYPE=application/p
 df:https://campussuite-storage.s3.amazonaws.com/prod/1558942/cbc8673e-f053
 -11e9-a49d-0a85357d1db8/2421561/6ddda0ba-daae-11ec-a80b-0a750e130247/file/
 2022-06-02 Vista Lakes CDD Agenda.pdf
END:VEVENT
END:VCALENDAR
