BEGIN:VCALENDAR
VERSION:2.0
PRODID:SchoolNow
CALSCALE:GREGORIAN
BEGIN:VEVENT
UID:260a560c-0557-11ec-b500-0ee39c5ff37b
DTSTAMP:20220401T145115Z
SUMMARY:CDD Board Meeting - Apr. 2022
LOCATION:Vista Lakes Clubhouse\, 8841 Lee Vista Boulevard\, Orlando\, Flori
 da 32829
URL;VALUE=URI:https://www.vistalakescdd.org/calendar/2687497/cdd-board-meet
 ing-apr-2022
DTSTART:20220407T140000Z
DTEND:20220407T150000Z
ATTACH;FILENAME=2022-04-07 Vista Lakes Agenda Package comp.pdf;FMTTYPE=appl
 ication/pdf:https://campussuite-storage.s3.amazonaws.com/prod/1558942/cbc8
 673e-f053-11e9-a49d-0a85357d1db8/2397057/3ca564c2-b1c5-11ec-a33e-023afd80c
 ab3/file/2022-04-07 Vista Lakes Agenda Package comp.pdf
END:VEVENT
END:VCALENDAR
