BEGIN:VCALENDAR
VERSION:2.0
PRODID:SchoolNow
CALSCALE:GREGORIAN
BEGIN:VEVENT
UID:17466908-0557-11ec-a5e1-0ee39c5ff37b
DTSTAMP:20220128T211920Z
SUMMARY:CDD Board Meeting - Feb. 2022
LOCATION:Vista Lakes Clubhouse\, 8841 Lee Vista Boulevard\, Orlando\, Flori
 da 32829. Call in # 1-646-838-1601\, 562622539#
URL;VALUE=URI:https://www.vistalakescdd.org/calendar/2687496/cdd-board-meet
 ing-feb-2022
DTSTART:20220203T233000Z
DTEND:20220204T003000Z
ATTACH;FILENAME=2022-02-03  Vista Lakes Agenda.pdf;FMTTYPE=application/pdf:
 https://campussuite-storage.s3.amazonaws.com/prod/1558942/cbc8673e-f053-11
 e9-a49d-0a85357d1db8/2368721/e8eecaf6-807f-11ec-b085-0ad8aea92475/file/202
 2-02-03  Vista Lakes Agenda.pdf
END:VEVENT
END:VCALENDAR
