BEGIN:VCALENDAR
VERSION:2.0
PRODID:SchoolNow
CALSCALE:GREGORIAN
BEGIN:VEVENT
UID:01b1e3ec-0557-11ec-a54b-0ee39c5ff37b
DTSTAMP:20211122T183657Z
SUMMARY:CDD Board Meeting - Dec. 2021
LOCATION:Vista Lakes Clubhouse\, 8841 Lee Vista Boulevard\, Orlando\, Flori
 da 32829
URL;VALUE=URI:https://www.vistalakescdd.org/calendar/2687495/cdd-board-meet
 ing-dec-2021
DTSTART:20211129T150000Z
DTEND:20211129T160000Z
ATTACH;FILENAME=2021-11-29  Vista Lakes Final Agenda Package-compressed.pdf
 ;FMTTYPE=application/pdf:https://campussuite-storage.s3.amazonaws.com/prod
 /1558942/cbc8673e-f053-11e9-a49d-0a85357d1db8/2347312/283e9a52-4bc3-11ec-8
 c73-0e5b0380bf1b/file/2021-11-29  Vista Lakes Final Agenda Package-compres
 sed.pdf
END:VEVENT
END:VCALENDAR
