BEGIN:VCALENDAR
VERSION:2.0
PRODID:SchoolNow
CALSCALE:GREGORIAN
BEGIN:VEVENT
UID:f0afcb4a-0556-11ec-8a79-0ee39c5ff37b
DTSTAMP:20211001T053403Z
SUMMARY:CDD Board Meeting - Oct. 2021
LOCATION:Vista Lakes Clubhouse\, 8841 Lee Vista Boulevard\, Orlando\, Flori
 da 32829 / Call in Number: 646-838-1601\, Access Code: 438834881
URL;VALUE=URI:https://www.vistalakescdd.org/calendar/2687494/cdd-board-meet
 ing-oct-2021
DTSTART:20211007T140000Z
DTEND:20211007T150000Z
ATTACH;FILENAME=2021-10-07 Vista Lakes Agenda Package compressed.pdf;FMTTYP
 E=application/pdf:https://campussuite-storage.s3.amazonaws.com/prod/155894
 2/cbc8673e-f053-11e9-a49d-0a85357d1db8/2322980/ef455b4c-2277-11ec-aa73-020
 2d4949543/file/2021-10-07 Vista Lakes Agenda Package compressed.pdf
END:VEVENT
END:VCALENDAR
