BEGIN:VCALENDAR
VERSION:2.0
PRODID:SchoolNow
CALSCALE:GREGORIAN
BEGIN:VEVENT
UID:2f0e02b4-febc-11ea-804b-0a893ad03e3d
DTSTAMP:20210730T033157Z
SUMMARY:CDD Board Meeting - Aug. 2021
LOCATION:Vista Lakes Clubhouse\, 8841 Lee Vista Boulevard\, Orlando\, Flori
 da 32829 / Call in Number: 646-838-1601\, Access Code: 438834881
URL;VALUE=URI:https://www.vistalakescdd.org/calendar/2384570/cdd-board-meet
 ing-aug-2021
DTSTART:20210805T140000Z
DTEND:20210805T150000Z
ATTACH;FILENAME=2021-08-05 Vista Lakes CDD Agenda Package_compressed.v.3.pd
 f;FMTTYPE=application/pdf:https://campussuite-storage.s3.amazonaws.com/pro
 d/1558942/cbc8673e-f053-11e9-a49d-0a85357d1db8/2296699/972dca7e-f0e6-11eb-
 b69a-0ebb992bea21/file/2021-08-05 Vista Lakes CDD Agenda Package_compresse
 d.v.3.pdf
END:VEVENT
END:VCALENDAR
