BEGIN:VCALENDAR
VERSION:2.0
PRODID:SchoolNow
CALSCALE:GREGORIAN
BEGIN:VEVENT
UID:788cc9b8-0532-11ea-93e9-0af9308a8cf1
DTSTAMP:20191112T095451Z
SUMMARY:CDD Board Meeting - Oct. 2019
LOCATION:Vista Lakes Clubhouse\, 8841 Lee Vista Boulevard\, Orlando\, Flori
 da 32829
URL;VALUE=URI:https://www.vistalakescdd.org/calendar/2143275/cdd-board-meet
 ing-oct-2019
DTSTART:20191003T140000Z
DTEND:20191003T150000Z
END:VEVENT
END:VCALENDAR
